BEGIN:VCALENDAR
VERSION:2.0
PRODID:icalendar-ruby
CALSCALE:GREGORIAN
BEGIN:VEVENT
DTSTAMP:20260419T231343Z
UID:d98b44aa-63a7-4097-ae22-039ccc37b870
DTSTART;VALUE=DATE:20211118
DESCRIPTION:Property ID# 520974\, Time: 1:00PM
SUMMARY:Auction for 
END:VEVENT
END:VCALENDAR
