BEGIN:VCALENDAR
VERSION:2.0
PRODID:icalendar-ruby
CALSCALE:GREGORIAN
BEGIN:VEVENT
DTSTAMP:20260419T194712Z
UID:3df99821-8e4d-404a-baec-001cff01a485
DTSTART;VALUE=DATE:20211028
DESCRIPTION:Property ID# 518842\, Locatoin: Auction to be conducted Online\
 , Time: 3:00PM
SUMMARY:Auction for 
END:VEVENT
END:VCALENDAR
