BEGIN:VCALENDAR
VERSION:2.0
PRODID:icalendar-ruby
CALSCALE:GREGORIAN
BEGIN:VEVENT
DTSTAMP:20260419T230944Z
UID:87c6916d-a2ba-480b-8e63-5e9071590458
DTSTART;VALUE=DATE:20200402
DESCRIPTION:Property ID# 475954\, Time: 6:30PM
SUMMARY:Auction for 
END:VEVENT
END:VCALENDAR
